BEGIN:VCALENDAR
VERSION:2.0
PRODID:-//ESG Hamburg - ECPv6.15.20//NONSGML v1.0//EN
CALSCALE:GREGORIAN
METHOD:PUBLISH
X-WR-CALNAME:ESG Hamburg
X-ORIGINAL-URL:https://www.esg-hamburg.de
X-WR-CALDESC:Veranstaltungen für ESG Hamburg
REFRESH-INTERVAL;VALUE=DURATION:PT1H
X-Robots-Tag:noindex
X-PUBLISHED-TTL:PT1H
BEGIN:VTIMEZONE
TZID:Europe/Berlin
BEGIN:DAYLIGHT
TZOFFSETFROM:+0100
TZOFFSETTO:+0200
TZNAME:CEST
DTSTART:20230326T010000
END:DAYLIGHT
BEGIN:STANDARD
TZOFFSETFROM:+0200
TZOFFSETTO:+0100
TZNAME:CET
DTSTART:20231029T010000
END:STANDARD
BEGIN:DAYLIGHT
TZOFFSETFROM:+0100
TZOFFSETTO:+0200
TZNAME:CEST
DTSTART:20240331T010000
END:DAYLIGHT
BEGIN:STANDARD
TZOFFSETFROM:+0200
TZOFFSETTO:+0100
TZNAME:CET
DTSTART:20241027T010000
END:STANDARD
BEGIN:DAYLIGHT
TZOFFSETFROM:+0100
TZOFFSETTO:+0200
TZNAME:CEST
DTSTART:20250330T010000
END:DAYLIGHT
BEGIN:STANDARD
TZOFFSETFROM:+0200
TZOFFSETTO:+0100
TZNAME:CET
DTSTART:20251026T010000
END:STANDARD
END:VTIMEZONE
BEGIN:VEVENT
DTSTART;TZID=Europe/Berlin:20240615T123000
DTEND;TZID=Europe/Berlin:20240615T180000
DTSTAMP:20260424T023704
CREATED:20240506T113909Z
LAST-MODIFIED:20240521T181547Z
UID:5586-1718454600-1718474400@www.esg-hamburg.de
SUMMARY:ESG-Unterwegs: Paddeln in Lübeck
DESCRIPTION:Du willst gemeinsam paddeln und Spaß haben? Einen Tag mit anderen Studis aus Norddeutschland verbringen? Und danach zusammen lecker grillen? \nDann melde dich bis 31. Mai an bei Ronja (ronja.kopp(at)esg.nordkirche.de) oder bei Thomas unter info(at)khg-hamburg.de bzw. 040 / 44 50 66 880\, damit wir genügend Boote reservieren können! Auch bei Fragen sind wir gerne für dich da. \nDieses Jahr laden wir euch nach Lübeck ein. Wir beginnen unsere Tour auf dem Gelände des Kanu Clubs Lübeck (Wallstr. 38a\, 23560 Lübeck). Nach einer ca. 3-stündigen Tour durch die schöne Altstadt treffen wir uns beim Club zum Grillen. Weitere Details findest du hier. \nDie Veranstaltung ist für Dich kostenlos. Eine Anmeldung ist erforderlich.
URL:https://www.esg-hamburg.de/event/esg-unterwegs-paddeln-in-luebeck/
LOCATION:Kanu Club Lübeck\, Wallstraße 38a\, Lübeck\, Schleswig-Holstein\, 23560\, Deutschland
CATEGORIES:ESG UNTERWEGS
ATTACH;FMTTYPE=image/webp:https://www.esg-hamburg.de/wp-content/uploads/2024/05/pad079.webp
ORGANIZER;CN="KHG Hamburg":MAILTO:info@khg-hamburg.de
END:VEVENT
END:VCALENDAR