BEGIN:VCALENDAR
VERSION:2.0
PRODID:-//ESG Hamburg - ECPv6.15.20//NONSGML v1.0//EN
CALSCALE:GREGORIAN
METHOD:PUBLISH
X-WR-CALNAME:ESG Hamburg
X-ORIGINAL-URL:https://www.esg-hamburg.de
X-WR-CALDESC:Veranstaltungen für ESG Hamburg
REFRESH-INTERVAL;VALUE=DURATION:PT1H
X-Robots-Tag:noindex
X-PUBLISHED-TTL:PT1H
BEGIN:VTIMEZONE
TZID:Europe/Berlin
BEGIN:DAYLIGHT
TZOFFSETFROM:+0100
TZOFFSETTO:+0200
TZNAME:CEST
DTSTART:20230326T010000
END:DAYLIGHT
BEGIN:STANDARD
TZOFFSETFROM:+0200
TZOFFSETTO:+0100
TZNAME:CET
DTSTART:20231029T010000
END:STANDARD
BEGIN:DAYLIGHT
TZOFFSETFROM:+0100
TZOFFSETTO:+0200
TZNAME:CEST
DTSTART:20240331T010000
END:DAYLIGHT
BEGIN:STANDARD
TZOFFSETFROM:+0200
TZOFFSETTO:+0100
TZNAME:CET
DTSTART:20241027T010000
END:STANDARD
BEGIN:DAYLIGHT
TZOFFSETFROM:+0100
TZOFFSETTO:+0200
TZNAME:CEST
DTSTART:20250330T010000
END:DAYLIGHT
BEGIN:STANDARD
TZOFFSETFROM:+0200
TZOFFSETTO:+0100
TZNAME:CET
DTSTART:20251026T010000
END:STANDARD
END:VTIMEZONE
BEGIN:VEVENT
DTSTART;TZID=Europe/Berlin:20240604T180000
DTEND;TZID=Europe/Berlin:20240604T200000
DTSTAMP:20260424T055737
CREATED:20240506T110513Z
LAST-MODIFIED:20240530T185601Z
UID:5559-1717524000-1717531200@www.esg-hamburg.de
SUMMARY:ESG-Treffpunkt: Länderabend Kamerun
DESCRIPTION:Komm mit auf eine Reise in Yvans Herkunftsland Kamerun! \nKamerun wird auch als „Afrika im Kleinen“ bezeichnet – denn es spiegelt die geografische Vielfalt des Kontinents wider: von Regenwäldern über typisch westafrikanisches Bergland\, Plantagen und Stränden wie in vielen Anrainerstaaten des Atlantiks bis hin zu Savannen\, die für die weiten Ebenen Ostafrikas stehen. Darüber hinaus bietet es eine große kulturelle und gesellschaftliche Vielfalt\, die u.a. in den rund 250 verschiedenen Sprachen im Land sicht- bzw. hörbar wird. \nWir laden ein zu Input und Gespräch sowie leckerem kamerunischem Essen! \nDas offizielle Programm dauert etwa bis 20 Uhr – wir lassen den Abend gemütlich ausklingen. \n  \nÜber die ESG-Länderabende: Bei unseren Länderabenden nimmt uns ein*e internationale*r Student*in mit auf die Reise in sein*ihr Herkunftsland. Wir möchten Euch einen möglichst vielseitigen Einblick in das jeweilige Land sowie Raum für Fragen geben. Darum: Herzliche Einladung miteinander ins Gespräch zu kommen! Die Länderabende finden in Kooperation mit STUBE Nord statt. STUBE steht für STudienBEgleitprogramm\, das sich an international Studierende aus Afrika\, Asien\, Lateinamerika und Osteuropa richtet. Wenn Du mehr darüber wissen willst\, klicke hier. Zu den Länderabenden in der ESG sind ALLE Studierenden und Interessierte herzlich eingeladen!  \nEin respektvoller Umgang miteinander ist uns wichtig. Dazu gehört auch Sensibilität für Rassismus\, Sexismus und Ähnliches.\n \n 
URL:https://www.esg-hamburg.de/event/esg-treffpunkt-laenderabend-kamerun/
LOCATION:ESG Sauerberghof Haus D\, Grindelallee 43\, Hamburg\, Hamburg\, 20143\, Deutschland
CATEGORIES:ESG-Treffpunkt
ATTACH;FMTTYPE=image/jpeg:https://www.esg-hamburg.de/wp-content/uploads/2024/05/Mont-Rhumsiki-Cameroun.jpg
END:VEVENT
END:VCALENDAR