BEGIN:VCALENDAR
VERSION:2.0
PRODID:-//ESG Hamburg - ECPv6.15.20//NONSGML v1.0//EN
CALSCALE:GREGORIAN
METHOD:PUBLISH
X-WR-CALNAME:ESG Hamburg
X-ORIGINAL-URL:https://www.esg-hamburg.de
X-WR-CALDESC:Veranstaltungen für ESG Hamburg
REFRESH-INTERVAL;VALUE=DURATION:PT1H
X-Robots-Tag:noindex
X-PUBLISHED-TTL:PT1H
BEGIN:VTIMEZONE
TZID:Europe/Berlin
BEGIN:DAYLIGHT
TZOFFSETFROM:+0100
TZOFFSETTO:+0200
TZNAME:CEST
DTSTART:20250330T010000
END:DAYLIGHT
BEGIN:STANDARD
TZOFFSETFROM:+0200
TZOFFSETTO:+0100
TZNAME:CET
DTSTART:20251026T010000
END:STANDARD
BEGIN:DAYLIGHT
TZOFFSETFROM:+0100
TZOFFSETTO:+0200
TZNAME:CEST
DTSTART:20260329T010000
END:DAYLIGHT
BEGIN:STANDARD
TZOFFSETFROM:+0200
TZOFFSETTO:+0100
TZNAME:CET
DTSTART:20261025T010000
END:STANDARD
BEGIN:DAYLIGHT
TZOFFSETFROM:+0100
TZOFFSETTO:+0200
TZNAME:CEST
DTSTART:20270328T010000
END:DAYLIGHT
BEGIN:STANDARD
TZOFFSETFROM:+0200
TZOFFSETTO:+0100
TZNAME:CET
DTSTART:20271031T010000
END:STANDARD
END:VTIMEZONE
BEGIN:VEVENT
DTSTART;TZID=Europe/Berlin:20260424T190000
DTEND;TZID=Europe/Berlin:20260424T230000
DTSTAMP:20260420T020942
CREATED:20260317T130434Z
LAST-MODIFIED:20260317T130822Z
UID:6328-1777057200-1777071600@www.esg-hamburg.de
SUMMARY:Es lauscht und schmaust - Vorleseabend
DESCRIPTION:Hast du Lust mal wieder vorgelesen zu bekommen oder selbst etwas vorzulesen? Kurzgeschichten\, Gedichte\, Selbstgeschriebenes – Sei dabei\, bring alles mit\, was nach Gemütlichkeit aussieht. Etwas zum Schmausen ist natürlich auch immer gut und sehr gerne etwas zum Vorlesen! \nEs gibt warmen Kakao\, Snacks\, gemütliche Kissen und Decken zum Wohlfühlen! \n 
URL:https://www.esg-hamburg.de/event/es-lauscht-und-schmaust-vorleseabend/
ATTACH;FMTTYPE=image/jpeg:https://www.esg-hamburg.de/wp-content/uploads/2026/03/IMG_0485.jpg
END:VEVENT
END:VCALENDAR