BEGIN:VCALENDAR
VERSION:2.0
PRODID:-//ESG Hamburg - ECPv6.15.20//NONSGML v1.0//EN
CALSCALE:GREGORIAN
METHOD:PUBLISH
X-WR-CALNAME:ESG Hamburg
X-ORIGINAL-URL:https://www.esg-hamburg.de
X-WR-CALDESC:Veranstaltungen für ESG Hamburg
REFRESH-INTERVAL;VALUE=DURATION:PT1H
X-Robots-Tag:noindex
X-PUBLISHED-TTL:PT1H
BEGIN:VTIMEZONE
TZID:Europe/Berlin
BEGIN:DAYLIGHT
TZOFFSETFROM:+0100
TZOFFSETTO:+0200
TZNAME:CEST
DTSTART:20250330T010000
END:DAYLIGHT
BEGIN:STANDARD
TZOFFSETFROM:+0200
TZOFFSETTO:+0100
TZNAME:CET
DTSTART:20251026T010000
END:STANDARD
BEGIN:DAYLIGHT
TZOFFSETFROM:+0100
TZOFFSETTO:+0200
TZNAME:CEST
DTSTART:20260329T010000
END:DAYLIGHT
BEGIN:STANDARD
TZOFFSETFROM:+0200
TZOFFSETTO:+0100
TZNAME:CET
DTSTART:20261025T010000
END:STANDARD
BEGIN:DAYLIGHT
TZOFFSETFROM:+0100
TZOFFSETTO:+0200
TZNAME:CEST
DTSTART:20270328T010000
END:DAYLIGHT
BEGIN:STANDARD
TZOFFSETFROM:+0200
TZOFFSETTO:+0100
TZNAME:CET
DTSTART:20271031T010000
END:STANDARD
END:VTIMEZONE
BEGIN:VEVENT
DTSTART;TZID=Europe/Berlin:20261017T170000
DTEND;TZID=Europe/Berlin:20261017T180000
DTSTAMP:20260422T110139
CREATED:20260204T190043Z
LAST-MODIFIED:20260216T101014Z
UID:6300-1792256400-1792260000@www.esg-hamburg.de
SUMMARY:Festgottesdienst anlässlich des 50 Jährigen Jubiläums der STUTS
DESCRIPTION:Die StuTs wird 50 und das wollen wir mit euch feiern. \nEs wird dieses Jahr verschiedene Aktionen anlässlich des Jubiläums geben\, unter anderem einen festlichen Gottesdienst. \nAm 17. Oktober um 17 Uhr in der Hauptkirche St. Katharinen. \nHerzliche Einladung!
URL:https://www.esg-hamburg.de/event/festgottesdienst-anlaesslich-des-50-jaehrigen-jubilaeums-der-stuts/
END:VEVENT
END:VCALENDAR