BEGIN:VCALENDAR
VERSION:2.0
PRODID:-//ESG Hamburg - ECPv6.15.20//NONSGML v1.0//EN
CALSCALE:GREGORIAN
METHOD:PUBLISH
X-ORIGINAL-URL:https://www.esg-hamburg.de
X-WR-CALDESC:Veranstaltungen für ESG Hamburg
REFRESH-INTERVAL;VALUE=DURATION:PT1H
X-Robots-Tag:noindex
X-PUBLISHED-TTL:PT1H
BEGIN:VTIMEZONE
TZID:Europe/Berlin
BEGIN:DAYLIGHT
TZOFFSETFROM:+0100
TZOFFSETTO:+0200
TZNAME:CEST
DTSTART:20250330T010000
END:DAYLIGHT
BEGIN:STANDARD
TZOFFSETFROM:+0200
TZOFFSETTO:+0100
TZNAME:CET
DTSTART:20251026T010000
END:STANDARD
BEGIN:DAYLIGHT
TZOFFSETFROM:+0100
TZOFFSETTO:+0200
TZNAME:CEST
DTSTART:20260329T010000
END:DAYLIGHT
BEGIN:STANDARD
TZOFFSETFROM:+0200
TZOFFSETTO:+0100
TZNAME:CET
DTSTART:20261025T010000
END:STANDARD
BEGIN:DAYLIGHT
TZOFFSETFROM:+0100
TZOFFSETTO:+0200
TZNAME:CEST
DTSTART:20270328T010000
END:DAYLIGHT
BEGIN:STANDARD
TZOFFSETFROM:+0200
TZOFFSETTO:+0100
TZNAME:CET
DTSTART:20271031T010000
END:STANDARD
END:VTIMEZONE
BEGIN:VEVENT
DTSTART;TZID=Europe/Berlin:20260707T180000
DTEND;TZID=Europe/Berlin:20260707T213000
DTSTAMP:20260420T055536
CREATED:20260317T133636Z
LAST-MODIFIED:20260317T133636Z
UID:6347-1783447200-1783459800@www.esg-hamburg.de
SUMMARY:Friedenswerkstatt
DESCRIPTION:Alles Infos siehe Flyer. \n  \nBitte meldet euch an:
URL:https://www.esg-hamburg.de/event/friedenswerkstatt-9/
ATTACH;FMTTYPE=image/png:https://www.esg-hamburg.de/wp-content/uploads/2026/03/Friedenswerkstatt.png
END:VEVENT
BEGIN:VEVENT
DTSTART;VALUE=DATE:20260731
DTEND;VALUE=DATE:20260803
DTSTAMP:20260420T055536
CREATED:20260204T184803Z
LAST-MODIFIED:20260204T184803Z
UID:6293-1785456000-1785715199@www.esg-hamburg.de
SUMMARY:Bist du dabei? - Freakstok Festival 2026
DESCRIPTION:Wir\, das sind die ESG\, das Bildungswerk des ev. luth. Kirchenkreises Plön-Segeberg\, das Ökumenewerk der Nordkirche und der Jugencampus Breklum fahren gemeinsam mit euch zum Freakstock! \nDu bist dabei? Super! Dann nimm gerne an unserem Kennlernabend am 08. Juli um 19 Uhr teil. \nWir kümmern uns um An- und Abreise sowie basic Verpflegung vor Ort. \n  \n  \n 
URL:https://www.esg-hamburg.de/event/bist-du-dabei-freakstok-festival-2026/
ATTACH;FMTTYPE=image/png:https://www.esg-hamburg.de/wp-content/uploads/2026/02/2026-Freakstock-Werbeposter.png
END:VEVENT
END:VCALENDAR