BEGIN:VCALENDAR
VERSION:2.0
PRODID:-//ESG Hamburg - ECPv6.15.20//NONSGML v1.0//EN
CALSCALE:GREGORIAN
METHOD:PUBLISH
X-ORIGINAL-URL:https://www.esg-hamburg.de
X-WR-CALDESC:Veranstaltungen für ESG Hamburg
REFRESH-INTERVAL;VALUE=DURATION:PT1H
X-Robots-Tag:noindex
X-PUBLISHED-TTL:PT1H
BEGIN:VTIMEZONE
TZID:Europe/Berlin
BEGIN:DAYLIGHT
TZOFFSETFROM:+0100
TZOFFSETTO:+0200
TZNAME:CEST
DTSTART:20240331T010000
END:DAYLIGHT
BEGIN:STANDARD
TZOFFSETFROM:+0200
TZOFFSETTO:+0100
TZNAME:CET
DTSTART:20241027T010000
END:STANDARD
BEGIN:DAYLIGHT
TZOFFSETFROM:+0100
TZOFFSETTO:+0200
TZNAME:CEST
DTSTART:20250330T010000
END:DAYLIGHT
BEGIN:STANDARD
TZOFFSETFROM:+0200
TZOFFSETTO:+0100
TZNAME:CET
DTSTART:20251026T010000
END:STANDARD
BEGIN:DAYLIGHT
TZOFFSETFROM:+0100
TZOFFSETTO:+0200
TZNAME:CEST
DTSTART:20260329T010000
END:DAYLIGHT
BEGIN:STANDARD
TZOFFSETFROM:+0200
TZOFFSETTO:+0100
TZNAME:CET
DTSTART:20261025T010000
END:STANDARD
END:VTIMEZONE
BEGIN:VEVENT
DTSTART;TZID=Europe/Berlin:20250407T080000
DTEND;TZID=Europe/Berlin:20250407T170000
DTSTAMP:20260422T213007
CREATED:20250407T174406Z
LAST-MODIFIED:20250407T174406Z
UID:5910-1744012800-1744045200@www.esg-hamburg.de
SUMMARY:Let's get started: Andacht zum gemeinsamen Start ins Semester mit unserem Chor "ES Groovt"
DESCRIPTION:Wir starten mit einer Andacht ins neue Semester – kommt vorbei! \nWer mag kann im Anschluss noch auf einen Snack dableiben oder der Chorprobe lauschen.
URL:https://www.esg-hamburg.de/event/lets-get-started-andacht-zum-gemeinsamen-start-ins-semester-mit-unserem-chor-es-groovt/
ATTACH;FMTTYPE=image/jpeg:https://www.esg-hamburg.de/wp-content/uploads/2025/04/Andacht.jpg
END:VEVENT
BEGIN:VEVENT
DTSTART;TZID=Europe/Berlin:20250422T180000
DTEND;TZID=Europe/Berlin:20250422T210000
DTSTAMP:20260422T213007
CREATED:20250414T153105Z
LAST-MODIFIED:20250415T110918Z
UID:5914-1745344800-1745355600@www.esg-hamburg.de
SUMMARY:Quiz Time in der Friedenswerkstatt
DESCRIPTION:Wir kochen gemeinsam und unterhalten uns über Frieden und alles\, was die Welt gerade so bewegt. Frieden soll schmecken. \nSPEZIAL: Dieses mal gibt’s vorab ein kleines Friedensquiz – Komm vorbei und teste dein Wissen!
URL:https://www.esg-hamburg.de/event/friedens-werkstatt/
LOCATION:ESG Sauerberghof Haus D\, Grindelallee 43\, Hamburg\, Hamburg\, 20143\, Deutschland
ATTACH;FMTTYPE=image/png:https://www.esg-hamburg.de/wp-content/uploads/2025/04/1-2.png
END:VEVENT
BEGIN:VEVENT
DTSTART;VALUE=DATE:20250430
DTEND;VALUE=DATE:20250505
DTSTAMP:20260422T213007
CREATED:20250419T122910Z
LAST-MODIFIED:20250419T123046Z
UID:5928-1745971200-1746403199@www.esg-hamburg.de
SUMMARY:Kirchentag mit den NORD-ESGn
DESCRIPTION:Zusammen mit den anderen ESGn der Nordkirche fahren wir zum Kirchentag. Schreibt uns gerne\, wenn ihr euch uns anschließen möchtet.
URL:https://www.esg-hamburg.de/event/kirchentag-mit-den-nord-esgn/
ATTACH;FMTTYPE=image/jpeg:https://www.esg-hamburg.de/wp-content/uploads/2025/04/FUNDUS_3359_2009Bremen_IMG_1296-scr.jpg
END:VEVENT
END:VCALENDAR