BEGIN:VCALENDAR
VERSION:2.0
PRODID:-//ESG Hamburg - ECPv6.15.20//NONSGML v1.0//EN
CALSCALE:GREGORIAN
METHOD:PUBLISH
X-ORIGINAL-URL:https://www.esg-hamburg.de
X-WR-CALDESC:Veranstaltungen für ESG Hamburg
REFRESH-INTERVAL;VALUE=DURATION:PT1H
X-Robots-Tag:noindex
X-PUBLISHED-TTL:PT1H
BEGIN:VTIMEZONE
TZID:Europe/Berlin
BEGIN:DAYLIGHT
TZOFFSETFROM:+0100
TZOFFSETTO:+0200
TZNAME:CEST
DTSTART:20240331T010000
END:DAYLIGHT
BEGIN:STANDARD
TZOFFSETFROM:+0200
TZOFFSETTO:+0100
TZNAME:CET
DTSTART:20241027T010000
END:STANDARD
BEGIN:DAYLIGHT
TZOFFSETFROM:+0100
TZOFFSETTO:+0200
TZNAME:CEST
DTSTART:20250330T010000
END:DAYLIGHT
BEGIN:STANDARD
TZOFFSETFROM:+0200
TZOFFSETTO:+0100
TZNAME:CET
DTSTART:20251026T010000
END:STANDARD
BEGIN:DAYLIGHT
TZOFFSETFROM:+0100
TZOFFSETTO:+0200
TZNAME:CEST
DTSTART:20260329T010000
END:DAYLIGHT
BEGIN:STANDARD
TZOFFSETFROM:+0200
TZOFFSETTO:+0100
TZNAME:CET
DTSTART:20261025T010000
END:STANDARD
END:VTIMEZONE
BEGIN:VEVENT
DTSTART;TZID=Europe/Berlin:20250205T180000
DTEND;TZID=Europe/Berlin:20250205T200000
DTSTAMP:20260423T010632
CREATED:20250113T154902Z
LAST-MODIFIED:20250113T154902Z
UID:5884-1738778400-1738785600@www.esg-hamburg.de
SUMMARY:Informationsabend: Einladung zum Kennenlernen von STUBE NORD und der Multiplikator*innen-Schulung 2025
DESCRIPTION:Alle internationalen Studierenden und Interessierten sind herzlich eingeladen\, mehr über\ndas STUBE Nord Programm zu erfahren. Wir geben euch einen Überblick\, wie euch\nSTUBE während eures Studiums nützlich sein kann: von kostenlosen Bildungsangeboten\nim Bereich Nachhaltige Entwicklung/Globales Lernen bis hin zu finanzieller Unterstüt-\nzung.\nGetränke und Snacks werden an dem Abend kostenfrei angeboten. \nDas STUBE Programm auf einen Blick: \n\nkostenfreie Seminare & Exkursionen\nMultiplikator*innen-Schulung für Globales Lernen\ninterkultureller und interreligiöser Austausch\nUnterstützung von Praktika im Herkunftsland (BPSA)\nUnterstützung in finanziellen Notlagen über den ökumenischen Notfonds\n\nHier könnt ihr euch zu unserem Informationsabend am Mittwoch\, den 05.Februar\n2025 anmelden. \nBesucht unsere Homepage für alle weiteren Informationen und Angebote von STUBE Nord! \nAuf der Homepage findet ihr auch Infos zum nächsten Seminar am 15. Februar 2025: „Interkulturelle Kommunikation: Leben und Studieren zwischen den Kulturen“
URL:https://www.esg-hamburg.de/event/informationsabend-einladung-zum-kennenlernen-von-stube-nord-und-der-multiplikatorinnen-schulung-2025/
LOCATION:Diakonisches Werk Hamburg\, Königstraße 54\, 22767 Hamburg\, Königsstraße 54\, Hamburg\, 22767
ATTACH;FMTTYPE=image/jpeg:https://www.esg-hamburg.de/wp-content/uploads/2025/01/Junge-Menschen-fassen-Globus-an-Diakonie.jpg
END:VEVENT
END:VCALENDAR