BEGIN:VCALENDAR
VERSION:2.0
PRODID:-//ESG Hamburg - ECPv6.15.20//NONSGML v1.0//EN
CALSCALE:GREGORIAN
METHOD:PUBLISH
X-ORIGINAL-URL:https://www.esg-hamburg.de
X-WR-CALDESC:Veranstaltungen für ESG Hamburg
REFRESH-INTERVAL;VALUE=DURATION:PT1H
X-Robots-Tag:noindex
X-PUBLISHED-TTL:PT1H
BEGIN:VTIMEZONE
TZID:Europe/Berlin
BEGIN:DAYLIGHT
TZOFFSETFROM:+0100
TZOFFSETTO:+0200
TZNAME:CEST
DTSTART:20230326T010000
END:DAYLIGHT
BEGIN:STANDARD
TZOFFSETFROM:+0200
TZOFFSETTO:+0100
TZNAME:CET
DTSTART:20231029T010000
END:STANDARD
BEGIN:DAYLIGHT
TZOFFSETFROM:+0100
TZOFFSETTO:+0200
TZNAME:CEST
DTSTART:20240331T010000
END:DAYLIGHT
BEGIN:STANDARD
TZOFFSETFROM:+0200
TZOFFSETTO:+0100
TZNAME:CET
DTSTART:20241027T010000
END:STANDARD
BEGIN:DAYLIGHT
TZOFFSETFROM:+0100
TZOFFSETTO:+0200
TZNAME:CEST
DTSTART:20250330T010000
END:DAYLIGHT
BEGIN:STANDARD
TZOFFSETFROM:+0200
TZOFFSETTO:+0100
TZNAME:CET
DTSTART:20251026T010000
END:STANDARD
END:VTIMEZONE
BEGIN:VEVENT
DTSTART;TZID=Europe/Berlin:20241106T190000
DTEND;TZID=Europe/Berlin:20241106T210000
DTSTAMP:20260423T065444
CREATED:20241101T124348Z
LAST-MODIFIED:20241101T124422Z
UID:5812-1730919600-1730926800@www.esg-hamburg.de
SUMMARY:Interreligiöser Semesterbeginn
DESCRIPTION:gemeinsam mit Katholischer und Islamischer Hochschulgemeinde treffen wir uns zu einem kurzen Impuls im Raum der Stille\, anschließend gehen wir
URL:https://www.esg-hamburg.de/event/interreligioeser-semesterbeginn-2/
ATTACH;FMTTYPE=image/jpeg:https://www.esg-hamburg.de/wp-content/uploads/2024/11/Interreligioeser-Semesterbeginn.jpg
END:VEVENT
BEGIN:VEVENT
DTSTART;TZID=Europe/Berlin:20241112T180000
DTEND;TZID=Europe/Berlin:20241112T200000
DTSTAMP:20260423T065444
CREATED:20241101T125202Z
LAST-MODIFIED:20241101T130716Z
UID:5821-1731434400-1731441600@www.esg-hamburg.de
SUMMARY:Themenabend: Queer und religiös - geht das?!
DESCRIPTION:Wir kommen ins Gespräch\, hören vom queer und religiös sein einer queeren Pfarrperson und es gibt Raum für Fragen.
URL:https://www.esg-hamburg.de/event/themenabend-queer-und-religioes-geht-das/
CATEGORIES:ESG-Treffpunkt,Thementag
ATTACH;FMTTYPE=image/jpeg:https://www.esg-hamburg.de/wp-content/uploads/2024/11/Queer-und-religioes-geht-das.jpg
END:VEVENT
BEGIN:VEVENT
DTSTART;TZID=Europe/Berlin:20241119T180000
DTEND;TZID=Europe/Berlin:20241119T200000
DTSTAMP:20260423T065444
CREATED:20241101T130204Z
LAST-MODIFIED:20241105T125838Z
UID:5826-1732039200-1732046400@www.esg-hamburg.de
SUMMARY:Pizza-Night
DESCRIPTION:Zusammen mit dem kochenden Pastor Maurício da Silva Carvalho machen wir Pizza. Lass dich von einem spannenden 5 Gänge Pizza-Menü überraschen und erlebe wie wunderbar Vielfalt schmeckt.
URL:https://www.esg-hamburg.de/event/pizza-night/
ATTACH;FMTTYPE=image/jpeg:https://www.esg-hamburg.de/wp-content/uploads/2024/11/pizza-3007395_1280.jpg
END:VEVENT
BEGIN:VEVENT
DTSTART;TZID=Europe/Berlin:20241122T103000
DTEND;TZID=Europe/Berlin:20241123T123000
DTSTAMP:20260423T065444
CREATED:20240531T104250Z
LAST-MODIFIED:20240531T122112Z
UID:5629-1732271400-1732365000@www.esg-hamburg.de
SUMMARY:Junge Konferenz Kirche und Islam
DESCRIPTION:Die Tagung beschäftigt sich mit exegetischen Zugängen zum Koran sowie mit den Grundzügen einer Islamischen Religionspädagogik. Ein Besuch im Haus der Religionen in Hannover ist ebenfalls vorgesehen. \nDie Tagung richtet sich an an Studierende\, die am christlich-islamischen Dialog interessiert sind. \nFlyer Kirche und Islam \nAnmeldung bis 30.09.2024 per E-Mail an:\ngabriele.kaufmann@ekd.de \n 
URL:https://www.esg-hamburg.de/event/junge-konferenz-kirche-und-islam/
LOCATION:City Hotel Hannover\, Limburgstraße 3\, Hannover\, Niedersachsen\, 30159\, Deutschland
CATEGORIES:Tagung
ATTACH;FMTTYPE=image/jpeg:https://www.esg-hamburg.de/wp-content/uploads/2024/05/sy90170c-schnitt-e1717158056203.jpg
ORGANIZER;CN="Dr. Andreas Herrmann Evangelische Kirche in Deutschland (EKD)%3B Ralf Lange-Sonntag EKD Konferenz Kirche und Islam (KKI)":MAILTO:andreas.herrmann@ekd.de; ralf.lange-sonntag@ekvw.de
END:VEVENT
BEGIN:VEVENT
DTSTART;TZID=Europe/Berlin:20241126T180000
DTEND;TZID=Europe/Berlin:20241126T200000
DTSTAMP:20260423T065444
CREATED:20241101T130453Z
LAST-MODIFIED:20241101T130453Z
UID:5829-1732644000-1732651200@www.esg-hamburg.de
SUMMARY:Länderabend Kongo
DESCRIPTION:Ein Student erzählt von seinem Heimatland. Es wird einen typischen Imbiss geben\, wir bitten daher um Anmeldung unter: hamburg@esg.nordkirche.de oder bei Insta!
URL:https://www.esg-hamburg.de/event/laenderabend-kongo/
END:VEVENT
END:VCALENDAR