BEGIN:VCALENDAR
VERSION:2.0
PRODID:-//ESG Hamburg - ECPv6.15.20//NONSGML v1.0//EN
CALSCALE:GREGORIAN
METHOD:PUBLISH
X-WR-CALNAME:ESG Hamburg
X-ORIGINAL-URL:https://www.esg-hamburg.de
X-WR-CALDESC:Veranstaltungen für ESG Hamburg
REFRESH-INTERVAL;VALUE=DURATION:PT1H
X-Robots-Tag:noindex
X-PUBLISHED-TTL:PT1H
BEGIN:VTIMEZONE
TZID:Europe/Berlin
BEGIN:DAYLIGHT
TZOFFSETFROM:+0100
TZOFFSETTO:+0200
TZNAME:CEST
DTSTART:20230326T010000
END:DAYLIGHT
BEGIN:STANDARD
TZOFFSETFROM:+0200
TZOFFSETTO:+0100
TZNAME:CET
DTSTART:20231029T010000
END:STANDARD
BEGIN:DAYLIGHT
TZOFFSETFROM:+0100
TZOFFSETTO:+0200
TZNAME:CEST
DTSTART:20240331T010000
END:DAYLIGHT
BEGIN:STANDARD
TZOFFSETFROM:+0200
TZOFFSETTO:+0100
TZNAME:CET
DTSTART:20241027T010000
END:STANDARD
BEGIN:DAYLIGHT
TZOFFSETFROM:+0100
TZOFFSETTO:+0200
TZNAME:CEST
DTSTART:20250330T010000
END:DAYLIGHT
BEGIN:STANDARD
TZOFFSETFROM:+0200
TZOFFSETTO:+0100
TZNAME:CET
DTSTART:20251026T010000
END:STANDARD
END:VTIMEZONE
BEGIN:VEVENT
DTSTART;TZID=Europe/Berlin:20240604T180000
DTEND;TZID=Europe/Berlin:20240604T200000
DTSTAMP:20260423T173347
CREATED:20240506T110513Z
LAST-MODIFIED:20240530T185601Z
UID:5559-1717524000-1717531200@www.esg-hamburg.de
SUMMARY:ESG-Treffpunkt: Länderabend Kamerun
DESCRIPTION:Komm mit auf eine Reise in Yvans Herkunftsland Kamerun! \nKamerun wird auch als „Afrika im Kleinen“ bezeichnet – denn es spiegelt die geografische Vielfalt des Kontinents wider: von Regenwäldern über typisch westafrikanisches Bergland\, Plantagen und Stränden wie in vielen Anrainerstaaten des Atlantiks bis hin zu Savannen\, die für die weiten Ebenen Ostafrikas stehen. Darüber hinaus bietet es eine große kulturelle und gesellschaftliche Vielfalt\, die u.a. in den rund 250 verschiedenen Sprachen im Land sicht- bzw. hörbar wird. \nWir laden ein zu Input und Gespräch sowie leckerem kamerunischem Essen! \nDas offizielle Programm dauert etwa bis 20 Uhr – wir lassen den Abend gemütlich ausklingen. \n  \nÜber die ESG-Länderabende: Bei unseren Länderabenden nimmt uns ein*e internationale*r Student*in mit auf die Reise in sein*ihr Herkunftsland. Wir möchten Euch einen möglichst vielseitigen Einblick in das jeweilige Land sowie Raum für Fragen geben. Darum: Herzliche Einladung miteinander ins Gespräch zu kommen! Die Länderabende finden in Kooperation mit STUBE Nord statt. STUBE steht für STudienBEgleitprogramm\, das sich an international Studierende aus Afrika\, Asien\, Lateinamerika und Osteuropa richtet. Wenn Du mehr darüber wissen willst\, klicke hier. Zu den Länderabenden in der ESG sind ALLE Studierenden und Interessierte herzlich eingeladen!  \nEin respektvoller Umgang miteinander ist uns wichtig. Dazu gehört auch Sensibilität für Rassismus\, Sexismus und Ähnliches.\n \n 
URL:https://www.esg-hamburg.de/event/esg-treffpunkt-laenderabend-kamerun/
LOCATION:ESG Sauerberghof Haus D\, Grindelallee 43\, Hamburg\, Hamburg\, 20143\, Deutschland
CATEGORIES:ESG-Treffpunkt
ATTACH;FMTTYPE=image/jpeg:https://www.esg-hamburg.de/wp-content/uploads/2024/05/Mont-Rhumsiki-Cameroun.jpg
END:VEVENT
BEGIN:VEVENT
DTSTART;TZID=Europe/Berlin:20240610T160000
DTEND;TZID=Europe/Berlin:20240610T180000
DTSTAMP:20260423T173347
CREATED:20240506T111349Z
LAST-MODIFIED:20240521T152949Z
UID:5563-1718035200-1718042400@www.esg-hamburg.de
SUMMARY:Campusrundgang: Religiöse Vielfalt
DESCRIPTION:Rund um den Campus gibt es viele Orte\, Einrichtungen und Aktivitäten\, die das Leben und Studieren mit ihrer kulturellen und religiösen Vielfalt bereichern. Wir laden dich auf eine spannende Reise auf den Spuren der Weltreligionen an der Universität Hamburg ein! Während des Rundgangs wirst du erfahren\, welche Religionsgemeinschaften auf dem Campus vertreten sind\, wo interreligiöser Dialog in der Wissenschaft stattfindet und wie Religion im Alltag gelebt wird. Wo ist der Raum der Stille? Wo finde ich koscheres Essen\, wo kann ich Halal-Lebensmittel einkaufen? Deine Fragen sind selbstverständlich willkommen! \nLeitung: Nisa-Nur Evren\, Studentin\, Islamische Hochschulgemeinde\, Gisela Groß-Ikkache\, Pastorin\, Evangelische Studierendengemeinde\, Pater Thomas Ferencik\, Katholische Hochschulgemeinde \nDer Rundgang ist Teil der Diversity-Tage der Universität Hamburg. \nTreffpunkt ist vor dem Audimax\, Von-Melle-Park 4
URL:https://www.esg-hamburg.de/event/campusrundgang-religioese-vielfalt/
LOCATION:Treffpunkt vor dem Audimax\, Von-Melle-Park 4\, Von-Melle-Park 4\, Hamburg\, 20146
ATTACH;FMTTYPE=image/jpeg:https://www.esg-hamburg.de/wp-content/uploads/2024/05/P1170467.jpg
END:VEVENT
BEGIN:VEVENT
DTSTART;TZID=Europe/Berlin:20240612T183000
DTEND;TZID=Europe/Berlin:20240612T203000
DTSTAMP:20260423T173347
CREATED:20240506T112014Z
LAST-MODIFIED:20240523T171654Z
UID:5570-1718217000-1718224200@www.esg-hamburg.de
SUMMARY:ESG-Gesprächsabend: Gott ist queer?!
DESCRIPTION:„Ich habe G*tt getroffen. Sie ist schwarz.“  \nWir wollen miteinander ins Gespräch kommen: über Gottesbilder in unseren Köpfen\, Gesellschaft und Kirche(n). Dazu werfen wir auch einen Blick in die Bibel: Welche Gottesvorstellungen finden sich dort bezogen auf Geschlecht? Ist das Bild von ‚Gott Vater‘ zeitgemäß bzw. angemessen? Und welches Geschlecht hat eigentlich der Heilige Geist?  \nDer Gesprächsabend findet im Rahmen der Diversity-Tage der UHH statt. \n \n  \n 
URL:https://www.esg-hamburg.de/event/esg-gespraechsabend-gott-ist-queer/
LOCATION:ESG Sauerberghof Haus D\, Grindelallee 43\, Hamburg\, Hamburg\, 20143\, Deutschland
CATEGORIES:ESG-Treffpunkt
ATTACH;FMTTYPE=image/webp:https://www.esg-hamburg.de/wp-content/uploads/2024/05/queer_and_here__0.png.webp
END:VEVENT
BEGIN:VEVENT
DTSTART;TZID=Europe/Berlin:20240615T123000
DTEND;TZID=Europe/Berlin:20240615T180000
DTSTAMP:20260423T173347
CREATED:20240506T113909Z
LAST-MODIFIED:20240521T181547Z
UID:5586-1718454600-1718474400@www.esg-hamburg.de
SUMMARY:ESG-Unterwegs: Paddeln in Lübeck
DESCRIPTION:Du willst gemeinsam paddeln und Spaß haben? Einen Tag mit anderen Studis aus Norddeutschland verbringen? Und danach zusammen lecker grillen? \nDann melde dich bis 31. Mai an bei Ronja (ronja.kopp(at)esg.nordkirche.de) oder bei Thomas unter info(at)khg-hamburg.de bzw. 040 / 44 50 66 880\, damit wir genügend Boote reservieren können! Auch bei Fragen sind wir gerne für dich da. \nDieses Jahr laden wir euch nach Lübeck ein. Wir beginnen unsere Tour auf dem Gelände des Kanu Clubs Lübeck (Wallstr. 38a\, 23560 Lübeck). Nach einer ca. 3-stündigen Tour durch die schöne Altstadt treffen wir uns beim Club zum Grillen. Weitere Details findest du hier. \nDie Veranstaltung ist für Dich kostenlos. Eine Anmeldung ist erforderlich.
URL:https://www.esg-hamburg.de/event/esg-unterwegs-paddeln-in-luebeck/
LOCATION:Kanu Club Lübeck\, Wallstraße 38a\, Lübeck\, Schleswig-Holstein\, 23560\, Deutschland
CATEGORIES:ESG UNTERWEGS
ATTACH;FMTTYPE=image/webp:https://www.esg-hamburg.de/wp-content/uploads/2024/05/pad079.webp
ORGANIZER;CN="KHG Hamburg":MAILTO:info@khg-hamburg.de
END:VEVENT
BEGIN:VEVENT
DTSTART;TZID=Europe/Berlin:20240627T180000
DTEND;TZID=Europe/Berlin:20240627T200000
DTSTAMP:20260423T173347
CREATED:20240506T112340Z
LAST-MODIFIED:20240530T190010Z
UID:5574-1719511200-1719518400@www.esg-hamburg.de
SUMMARY:ESG-Treffpunkt: Länderabend Nepal
DESCRIPTION:Nepal\, das Land mit den höchsten Bergen der Welt! Doch natürlich bietet es mehr als die Weite des Himalayas. An diesem Abend gibt dir Pankaj einen Einblick in sein Herkunftsland. Komm mit auf eine spannende Reise und lerne mehr über Land und Leute! \nWir beginnen um 18 Uhr mit einem kleinen Input und lassen den Abend anschließend im Gespräch und mit leckerem nepalesischem Essen ausklingen. Herzliche Einladung! \n  \nÜber die ESG-Länderabende: Bei unseren Länderabenden nimmt uns ein*e internationale*r Student*in mit auf die Reise in sein*ihr Herkunftsland. Wir möchten Euch einen möglichst vielseitigen Einblick in das jeweilige Land sowie Raum für Fragen geben. Darum: Herzliche Einladung miteinander ins Gespräch zu kommen! Die Länderabende finden in Kooperation mit STUBE Nord statt. STUBE steht für STudienBEgleitprogramm\, das sich an international Studierende aus Afrika\, Asien\, Lateinamerika und Osteuropa richtet. Wenn Du mehr darüber wissen willst\, klicke hier. Zu den Länderabenden in der ESG sind ALLE Studierenden und Interessierten herzlich eingeladen!  \nEin respektvoller Umgang miteinander ist uns wichtig. Dazu gehört auch Sensibilität für Rassismus\, Sexismus und Ähnliches. Platz für Hass und Hetze gibt´s hier keinen.
URL:https://www.esg-hamburg.de/event/esg-treffpunkt-laenderabend-nepal/
LOCATION:ESG Sauerberghof Haus D\, Grindelallee 43\, Hamburg\, Hamburg\, 20143\, Deutschland
CATEGORIES:ESG-Treffpunkt
ATTACH;FMTTYPE=image/jpeg:https://www.esg-hamburg.de/wp-content/uploads/2024/05/Nepal.jpg
END:VEVENT
END:VCALENDAR