BEGIN:VCALENDAR
VERSION:2.0
PRODID:-//ESG Hamburg - ECPv6.15.20//NONSGML v1.0//EN
CALSCALE:GREGORIAN
METHOD:PUBLISH
X-ORIGINAL-URL:https://www.esg-hamburg.de
X-WR-CALDESC:Veranstaltungen für ESG Hamburg
REFRESH-INTERVAL;VALUE=DURATION:PT1H
X-Robots-Tag:noindex
X-PUBLISHED-TTL:PT1H
BEGIN:VTIMEZONE
TZID:Europe/Berlin
BEGIN:DAYLIGHT
TZOFFSETFROM:+0100
TZOFFSETTO:+0200
TZNAME:CEST
DTSTART:20230326T010000
END:DAYLIGHT
BEGIN:STANDARD
TZOFFSETFROM:+0200
TZOFFSETTO:+0100
TZNAME:CET
DTSTART:20231029T010000
END:STANDARD
BEGIN:DAYLIGHT
TZOFFSETFROM:+0100
TZOFFSETTO:+0200
TZNAME:CEST
DTSTART:20240331T010000
END:DAYLIGHT
BEGIN:STANDARD
TZOFFSETFROM:+0200
TZOFFSETTO:+0100
TZNAME:CET
DTSTART:20241027T010000
END:STANDARD
BEGIN:DAYLIGHT
TZOFFSETFROM:+0100
TZOFFSETTO:+0200
TZNAME:CEST
DTSTART:20250330T010000
END:DAYLIGHT
BEGIN:STANDARD
TZOFFSETFROM:+0200
TZOFFSETTO:+0100
TZNAME:CET
DTSTART:20251026T010000
END:STANDARD
END:VTIMEZONE
BEGIN:VEVENT
DTSTART;TZID=Europe/Berlin:20240419T170000
DTEND;TZID=Europe/Berlin:20240421T130000
DTSTAMP:20260423T210421
CREATED:20231219T115945Z
LAST-MODIFIED:20231219T120011Z
UID:5221-1713546000-1713704400@www.esg-hamburg.de
SUMMARY:Wurzeln und Flügel – ESG Wochenende in Prillwitz (Mecklenburg-Vorpommern)
DESCRIPTION:In einem schönen Seminarhaus in der Mecklenburgischen Seenplatte treffen wir uns mit Studierenden aus den Studierendengemeinden im Norden zum Reden\, Feiern\, Gottesdiensten und gemeinsamen Freizeitaktivitäten.\nAlle Infos im pdf und beim Organisator\, Martin Kumlehn\, ESG Rostock. Anmeldung möglich bis 30. Januar 2024.\nDie Kosten für die Teilnehmenden betragen 40 Euro\, die Fahrtkosten werden übernommen.\nAnmeldung Prillwitz
URL:https://www.esg-hamburg.de/event/wurzeln-und-fluegel-esg-wochenende-in-prillwitz-mecklenburg-vorpommern/
ATTACH;FMTTYPE=image/jpeg:https://www.esg-hamburg.de/wp-content/uploads/2023/12/Favorit-2-Haus-1-e1705924444340.jpg
END:VEVENT
END:VCALENDAR