BEGIN:VCALENDAR
VERSION:2.0
PRODID:-//ESG Hamburg - ECPv6.15.20//NONSGML v1.0//EN
CALSCALE:GREGORIAN
METHOD:PUBLISH
X-ORIGINAL-URL:https://www.esg-hamburg.de
X-WR-CALDESC:Veranstaltungen für ESG Hamburg
REFRESH-INTERVAL;VALUE=DURATION:PT1H
X-Robots-Tag:noindex
X-PUBLISHED-TTL:PT1H
BEGIN:VTIMEZONE
TZID:Europe/Berlin
BEGIN:DAYLIGHT
TZOFFSETFROM:+0100
TZOFFSETTO:+0200
TZNAME:CEST
DTSTART:20230326T010000
END:DAYLIGHT
BEGIN:STANDARD
TZOFFSETFROM:+0200
TZOFFSETTO:+0100
TZNAME:CET
DTSTART:20231029T010000
END:STANDARD
BEGIN:DAYLIGHT
TZOFFSETFROM:+0100
TZOFFSETTO:+0200
TZNAME:CEST
DTSTART:20240331T010000
END:DAYLIGHT
BEGIN:STANDARD
TZOFFSETFROM:+0200
TZOFFSETTO:+0100
TZNAME:CET
DTSTART:20241027T010000
END:STANDARD
BEGIN:DAYLIGHT
TZOFFSETFROM:+0100
TZOFFSETTO:+0200
TZNAME:CEST
DTSTART:20250330T010000
END:DAYLIGHT
BEGIN:STANDARD
TZOFFSETFROM:+0200
TZOFFSETTO:+0100
TZNAME:CET
DTSTART:20251026T010000
END:STANDARD
END:VTIMEZONE
BEGIN:VEVENT
DTSTART;TZID=Europe/Berlin:20240224T080000
DTEND;TZID=Europe/Berlin:20240302T170000
DTSTAMP:20260423T224732
CREATED:20240122T115615Z
LAST-MODIFIED:20240122T135146Z
UID:5284-1708761600-1709398800@www.esg-hamburg.de
SUMMARY:Ski- und Boardtour der ESG-Bremen nach Lermoos\, Österreich
DESCRIPTION:SKI & BOARDTOUR 24.02. – 02.03.2024 // Lermoos\, Österreich \nDu bist zwischen 18 und 35 Jahre alt oder Alumni der esg?\nDu hast vom 24.02. – 02.03.24 Zeit für Urlaub?\nDu hast Bock auf Urlaub in der Gruppe?\nDu wolltest schon immer mal Ski- oder Snowboardfahren lernen oder bist bereits schneesportbegeistert? \n4x mit „JA!“ geantwortet? Dann komm mit zur SKI & BOARDTOUR 2024! \nAufbauend auf die Fahrten der letzten Jahre und die dort gesammelte Erfahrung starten in eine neue Runde der Ski- und Snowboardfreizeit für Neueinsteiger*innen\, Anfänger*innen\, Fortgeschrittene und Expert*innen nach Österreich! \nGeplant und durchgeführt wird die Tour von der Evangelischen Studierenden Gemeinde Bremen (ESG) und der St. Remberti-Gemeinde Bremen. Du kannst somit auf bekannte\, wie auf neue Gesichter treffen. \nWeitere Infos:  Ski- und Snowboardtour 2024 der ESG Bremen \noder melde dich für weitere Fragen bei Julia Webner julia.webner@kirche-bremen.de | 0160 93207054 \n  \n_______________________________________________________________________________________________\n<a href=“https://de.freepik.com/fotos-kostenlos/skifahrerteam-das-spass-in-den-schneebedeckten-bergen-hat_27254860.htm#query=skifahren&position=39&from_view=search&track=sph&uuid=e507b59d-f433-437d-915c-67e55d6b7a14″>Bild von ArtPhoto_studio</a> auf Freepik
URL:https://www.esg-hamburg.de/event/ski-und-boardtour-der-esg-bremen-nach-leermoos-oesterreich/
LOCATION:Zugspitzarena Lermoos\, Lermoos\, Tirol\, 6631\, Austria
ATTACH;FMTTYPE=image/jpeg:https://www.esg-hamburg.de/wp-content/uploads/2024/01/skifahrerteam-das-spass-in-den-schneebedeckten-bergen-hat-scaled-e1705923237497.jpg
ORGANIZER;CN="ESG Bremen":MAILTO:julia.webner@kirche-bremen.de
END:VEVENT
BEGIN:VEVENT
DTSTART;TZID=Europe/Berlin:20240318T080000
DTEND;TZID=Europe/Berlin:20240322T170000
DTSTAMP:20260423T224732
CREATED:20231219T115700Z
LAST-MODIFIED:20240119T130555Z
UID:5216-1710748800-1711126800@www.esg-hamburg.de
SUMMARY:Kloster auf Zeit für Studierende auf dem Schwanberg - Veranstaltung der Bundes-ESG
DESCRIPTION:Lust auf eine begleitete Auszeit vom Studienalltag? Auf dem Schwanberg den Klosterrhythmus kennenlernen – ora et labora? mit Sr. Franziska (Schwanberg)\, Katarina Freisleder (EHG TUM)\, Marita Schiewe (ESG Erlangen) \nEintauchen in den Klosterrhythmus\, Kopf und Herz wieder frei bekommen für den eigenen Lebensweg und das eigene Lebensgespräch mit Gott. Vier Gebetszeiten wechseln sich mit Stille\, Mahlzeiten\, achtsamer Arbeit\, inhaltlichen Impulsen\, Gesprächen und Zeiten in der Natur ab. \nFolgende Elemente wirst Du in dieser Zeit erleben: \n\nBenediktinisches Stundengebet\nverschiedene Formen von Meditation und Schriftmeditation\nZeiten für Dich\nGespräche in der Gruppe\nMöglichkeit zum Einzelgespräch und\nMitarbeit auf dem Klostergelände.\n\nWährend Deines Klosteraufenthaltes wirst Du Zugänge zu biblischen Texten kennenlernen und geistliche Impulse erhalten und wirst Zeit haben\, Dich mit Dir und Deinem eigenen Glauben zu beschäftigen. \nAnmeldung und Infos: Kloster Schwanberg \nPreis 125\,- Euro \nOrganisation:\nCorinna Hirschberg\nBundesstudierendenpfarrerin\nVerband der Evangelischen Studierendengemeinden in Deutschland (ESG)\nOtto-Brenner-Str. 9\n30159 Hannover \n\n\n  \n\n\n  \n  \n\n\n  \n\n\n\n\n\n\n\n\n\n\n \n\n\n\n\n\n  \n\n\n\n\n\n\n\n\n\n 
URL:https://www.esg-hamburg.de/event/kloster-auf-zeit-fuer-studierende-auf-dem-schwanberg-veranstaltung-der-bundes-esg/
LOCATION:Kloster Schwanberg\, Schwanberg 1-4\, Rödelsee\, Bayern\, 97348\, Germany
CATEGORIES:ESG UNTERWEGS
ATTACH;FMTTYPE=image/webp:https://www.esg-hamburg.de/wp-content/uploads/2023/12/csm_HausMichael_Meditationsraum_c3f7b2323f-1.webp
ORGANIZER;CN="Bundes-ESG":MAILTO:esg(at)bundes-esg.de
END:VEVENT
END:VCALENDAR