BEGIN:VCALENDAR
VERSION:2.0
PRODID:-//ESG Hamburg - ECPv6.15.20//NONSGML v1.0//EN
CALSCALE:GREGORIAN
METHOD:PUBLISH
X-ORIGINAL-URL:https://www.esg-hamburg.de
X-WR-CALDESC:Veranstaltungen für ESG Hamburg
REFRESH-INTERVAL;VALUE=DURATION:PT1H
X-Robots-Tag:noindex
X-PUBLISHED-TTL:PT1H
BEGIN:VTIMEZONE
TZID:Europe/Berlin
BEGIN:DAYLIGHT
TZOFFSETFROM:+0100
TZOFFSETTO:+0200
TZNAME:CEST
DTSTART:20230326T010000
END:DAYLIGHT
BEGIN:STANDARD
TZOFFSETFROM:+0200
TZOFFSETTO:+0100
TZNAME:CET
DTSTART:20231029T010000
END:STANDARD
BEGIN:DAYLIGHT
TZOFFSETFROM:+0100
TZOFFSETTO:+0200
TZNAME:CEST
DTSTART:20240331T010000
END:DAYLIGHT
BEGIN:STANDARD
TZOFFSETFROM:+0200
TZOFFSETTO:+0100
TZNAME:CET
DTSTART:20241027T010000
END:STANDARD
BEGIN:DAYLIGHT
TZOFFSETFROM:+0100
TZOFFSETTO:+0200
TZNAME:CEST
DTSTART:20250330T010000
END:DAYLIGHT
BEGIN:STANDARD
TZOFFSETFROM:+0200
TZOFFSETTO:+0100
TZNAME:CET
DTSTART:20251026T010000
END:STANDARD
END:VTIMEZONE
BEGIN:VEVENT
DTSTART;TZID=Europe/Berlin:20240110T190000
DTEND;TZID=Europe/Berlin:20240110T210000
DTSTAMP:20260424T020910
CREATED:20220210T111408Z
LAST-MODIFIED:20231219T105444Z
UID:4306-1704913200-1704920400@www.esg-hamburg.de
SUMMARY:Chorprobe ES Groovt - Offene Probe für Neue
DESCRIPTION:Die Chorproben des ESGroovt-Chors finden jeden Mittwoch statt\, im Januar 2024 gibt es bei offenen Proben\, die Möglichkeit den Chor kennen zu lernen. \nBitte meldet Euch dazu bei unserer Chorleiterin Mareike an unter chor@esg-hamburg.de  \nZur Zeit werden besonders Bässe und Tenöre gesucht! \nWeitere Informationen auf der Chorseite
URL:https://www.esg-hamburg.de/event/chorprobe-esgroovt/
LOCATION:ESG Haus B\, Grindelallee 43\, Hamburg\, 20146\, Deutschland
CATEGORIES:Chorprobe
ATTACH;FMTTYPE=image/jpeg:https://www.esg-hamburg.de/wp-content/uploads/2021/11/Sing_Foto_fuer-Chorwerbung.jpg
END:VEVENT
BEGIN:VEVENT
DTSTART;TZID=Europe/Berlin:20240116T180000
DTEND;TZID=Europe/Berlin:20240116T200000
DTSTAMP:20260424T020910
CREATED:20230929T074703Z
LAST-MODIFIED:20230929T075641Z
UID:5092-1705428000-1705435200@www.esg-hamburg.de
SUMMARY:ESG Treffpunkt: Notfall- und Feuerwehrseelsorge - Erfahrungsbericht
DESCRIPTION:ESG Treffpunkt: Notfall- und Feuerwehrseelsorge. Pastorin Erneli Martens berichtet aus ihrer langjährigen Erfahrung in diesem wichtigen und spannenden Seelsorgebereich.
URL:https://www.esg-hamburg.de/event/esg-treffpunkt-notfall-und-feuerwehrseelsorge-erfahrungsbericht/
LOCATION:Bestattungsunternehmen „trostwerk“\, Osterstraße 149 (Hinterhof)\, Hamburg\, 20255\, Germany
END:VEVENT
BEGIN:VEVENT
DTSTART;TZID=Europe/Berlin:20240117T190000
DTEND;TZID=Europe/Berlin:20240117T210000
DTSTAMP:20260424T020910
CREATED:20231219T105541Z
LAST-MODIFIED:20231219T110218Z
UID:5204-1705518000-1705525200@www.esg-hamburg.de
SUMMARY:Chorprobe - auch für Neue!
DESCRIPTION:Die Chorproben des ESGroovt-Chors finden jeden Mittwoch statt\, im Januar 2024 gibt es bei offenen Proben\, die Möglichkeit den Chor kennen zu lernen. \nBitte meldet Euch dazu bei unserer Chorleiterin Mareike an unter chor@esg-hamburg.de  \nZur Zeit werden besonders Bässe und Tenöre gesucht! \nWeitere Informationen auf der Chorseite
URL:https://www.esg-hamburg.de/event/chorprobe-auch-fuer-neue/
CATEGORIES:Chorprobe
END:VEVENT
BEGIN:VEVENT
DTSTART;TZID=Europe/Berlin:20240123T180000
DTEND;TZID=Europe/Berlin:20240123T200000
DTSTAMP:20260424T020910
CREATED:20230929T075021Z
LAST-MODIFIED:20240122T112503Z
UID:5094-1706032800-1706040000@www.esg-hamburg.de
SUMMARY:ESG Treffpunkt: Anders Abschied nehmen? Gespräch mit einem Bestatter
DESCRIPTION:ESG Treffpunkt: Anders Abschied nehmen?\nGespräch mit einem*r Bestatter*in \nDen Sarg für einen lieben verstorbenen Angehörigen selbst bemalen?\nDie Bestattung an einem besonderen Ort feiern?\nEin*e Trauerredner*in\, die einfühlsam und persönlich auf die Trauernden eingeht? \nWenn ihr erfahren möchtet\, wie Abschied nehmen jenseits von traditionellen Ritualen auch anders möglich ist\, seid ihr bei dieser Veranstaltung richtig. \nEin Bestatter des anderen Bestattungsunternehmens “ trostwerk“ erzähl an diesem Abend\, wie er durch seine Arbeit Wege öffnet\,\nden Tod wieder stärker in das Leben zu integrieren. \nInteresse? Dann meldet Euch an unter: info@esg-hamburg.de \n\n________________________________________________________________________________________\nBildnachweis: <a href=“https://de.freepik.com/fotos-kostenlos/leere-hoelzerne-anlegestelle-in-einem-see-waehrend-eines-atemberaubenden-sonnenuntergangs-ein-kuehler-hintergrund_12305330.htm#page=7&query=abschied&position=5&from_view=search&track=sph&uuid=e7519f84-689f-4565-8eca-b58ff12f18dd“>Bild von wirestock</a> auf Freepik
URL:https://www.esg-hamburg.de/event/esg-treffpunkt-anders-abschied-nehmen-gespraech-mit-einem-bestatter/
LOCATION:Bestattungsunternehmen „trostwerk“\, Osterstraße 149 (Hinterhof)\, Hamburg\, 20255\, Germany
ATTACH;FMTTYPE=image/jpeg:https://www.esg-hamburg.de/wp-content/uploads/2023/09/leere-hoelzerne-anlegestelle-in-einem-see-waehrend-eines-atemberaubenden-sonnenuntergangs-ein-kuehler-hintergrund-scaled-e1705920372599.jpg
END:VEVENT
BEGIN:VEVENT
DTSTART;TZID=Europe/Berlin:20240124T190000
DTEND;TZID=Europe/Berlin:20240124T210000
DTSTAMP:20260424T020910
CREATED:20231219T105654Z
LAST-MODIFIED:20240122T104906Z
UID:5206-1706122800-1706130000@www.esg-hamburg.de
SUMMARY:Offene Chorprobe für Chorinteressierte
DESCRIPTION:Die Chorproben des ESGroovt-Chors finden jeden Mittwoch statt\, im Januar 2024 gibt es bei offenen Proben\, die Möglichkeit den Chor kennen zu lernen. \nBitte meldet Euch dazu bei unserer Chorleiterin Mareike an unter chor@esg-hamburg.de  \nZur Zeit werden besonders Bässe und Tenöre gesucht! \nWeitere Informationen auf der Chorseite 
URL:https://www.esg-hamburg.de/event/offene-chorprobe-fuer-gesangsinteressierte/
CATEGORIES:Chorprobe
ATTACH;FMTTYPE=image/jpeg:https://www.esg-hamburg.de/wp-content/uploads/2021/11/Sing_Foto_fuer-Chorwerbung.jpg
END:VEVENT
BEGIN:VEVENT
DTSTART;TZID=Europe/Berlin:20240125T180000
DTEND;TZID=Europe/Berlin:20240125T200000
DTSTAMP:20260424T020910
CREATED:20230915T084912Z
LAST-MODIFIED:20240122T120023Z
UID:5068-1706205600-1706212800@www.esg-hamburg.de
SUMMARY:Einladung zum STUBE NORD Informationsabend
DESCRIPTION:Alle internationalen Studierenden und Interessierten sind herzlich eingeladen\, mehr über das STUBE Programm zu erfahren. Wir zeigen euch\, welche Unterstützungsmöglichkeiten es von uns während des Studiums gibt und wie ihr euch zu Multiplikator*innen für das Globale Lernen ausbilden lassen könnt. Getränke und Snacks werden an dem Abend kostenfrei angeboten.\nDas STUBE Programm auf einen Blick:\n• kostenfreie Seminare & Exkursionen\n• Multiplikator*innenschulung für Globales Lernen\n• interkultureller und interreligiöser Austausch\n• Unterstützung von Praktika im Herkunftsland (BPSA)\n• Unterstützung in finanziellen Notlagen über den ökumenischen\nNotfonds \nErfahrt mehr auf unserem Informationsabend! Hier geht es zur Anmeldung: info@stube-nord.de\n\nMehr Infos findet ih auf: stube-nord.de\noder  Einladung STUBE-Infoabend \n  \n_____________________________________________________________________________________\nBildnachweis: https://de.freepik.com/fotos-kostenlos/informationswort-geschrieben-auf-hoelzerne-wuerfel_4341878.htm#query=infoabend&position=0&from_view=search&track=ais&uuid=fb565082-2601-4b5f-b270-a396a0aea862″>Freepik</a>
URL:https://www.esg-hamburg.de/event/einladung-zum-stube-nord-informationsabend/
LOCATION:Diakonisches Werk Hamburg\, Königstraße 54\, 22767 Hamburg\, Königsstraße 54\, Hamburg\, 22767
ATTACH;FMTTYPE=image/jpeg:https://www.esg-hamburg.de/wp-content/uploads/2023/09/informationswort-geschrieben-auf-hoelzerne-wuerfel-scaled-e1705924762541.jpg
END:VEVENT
BEGIN:VEVENT
DTSTART;TZID=Europe/Berlin:20240131T190000
DTEND;TZID=Europe/Berlin:20240131T210000
DTSTAMP:20260424T020910
CREATED:20231219T105819Z
LAST-MODIFIED:20240119T132420Z
UID:5208-1706727600-1706734800@www.esg-hamburg.de
SUMMARY:Offene Chorprobe für Neue
DESCRIPTION:Die Chorproben des ESGroovt-Chors finden jeden Mittwoch statt\, im Januar 2024 gibt es bei offenen Proben\, die Möglichkeit den Chor kennen zu lernen. \nBitte meldet Euch dazu bei unserer Chorleiterin Mareike an unter chor@esg-hamburg.de  \nZur Zeit werden besonders Bässe und Tenöre gesucht! \nWeitere Informationen auf der Chorseite
URL:https://www.esg-hamburg.de/event/offene-chorprobe-fuer-neue/
LOCATION:ESG Haus B\, Grindelallee 43\, Hamburg\, 20146\, Deutschland
CATEGORIES:Chorprobe
ATTACH;FMTTYPE=image/jpeg:https://www.esg-hamburg.de/wp-content/uploads/2021/11/Sing_Foto_fuer-Chorwerbung.jpg
END:VEVENT
END:VCALENDAR