BEGIN:VCALENDAR
VERSION:2.0
PRODID:-//ESG Hamburg - ECPv6.15.20//NONSGML v1.0//EN
CALSCALE:GREGORIAN
METHOD:PUBLISH
X-ORIGINAL-URL:https://www.esg-hamburg.de
X-WR-CALDESC:Veranstaltungen für ESG Hamburg
REFRESH-INTERVAL;VALUE=DURATION:PT1H
X-Robots-Tag:noindex
X-PUBLISHED-TTL:PT1H
BEGIN:VTIMEZONE
TZID:Europe/Berlin
BEGIN:DAYLIGHT
TZOFFSETFROM:+0100
TZOFFSETTO:+0200
TZNAME:CEST
DTSTART:20220327T010000
END:DAYLIGHT
BEGIN:STANDARD
TZOFFSETFROM:+0200
TZOFFSETTO:+0100
TZNAME:CET
DTSTART:20221030T010000
END:STANDARD
BEGIN:DAYLIGHT
TZOFFSETFROM:+0100
TZOFFSETTO:+0200
TZNAME:CEST
DTSTART:20230326T010000
END:DAYLIGHT
BEGIN:STANDARD
TZOFFSETFROM:+0200
TZOFFSETTO:+0100
TZNAME:CET
DTSTART:20231029T010000
END:STANDARD
BEGIN:DAYLIGHT
TZOFFSETFROM:+0100
TZOFFSETTO:+0200
TZNAME:CEST
DTSTART:20240331T010000
END:DAYLIGHT
BEGIN:STANDARD
TZOFFSETFROM:+0200
TZOFFSETTO:+0100
TZNAME:CET
DTSTART:20241027T010000
END:STANDARD
END:VTIMEZONE
BEGIN:VEVENT
DTSTART;TZID=Europe/Berlin:20231204T160000
DTEND;TZID=Europe/Berlin:20231204T173000
DTSTAMP:20260424T042732
CREATED:20231115T125953Z
LAST-MODIFIED:20231115T131559Z
UID:5165-1701705600-1701711000@www.esg-hamburg.de
SUMMARY:St. Moment – kirchliche Begleitung in besonderen Lebensmomenten
DESCRIPTION:Taufe\, Hochzeit\, Beerdigung – am besonderen Ort oder ganz individuell gestaltet? \nMeike Barnahl von st. moment berichtet von den Erfahrungen in der Gestaltung heiliger Lebensmomente.
URL:https://www.esg-hamburg.de/event/st-moment-kirchliche-begleitung-in-besonderen-lebensmomenten/
LOCATION:ESG Haus B\, Grindelallee 43\, Hamburg\, 20146\, Deutschland
ATTACH;FMTTYPE=image/jpeg:https://www.esg-hamburg.de/wp-content/uploads/2023/11/Bank_am_Strand.jpg
END:VEVENT
BEGIN:VEVENT
DTSTART;TZID=Europe/Berlin:20231205T180000
DTEND;TZID=Europe/Berlin:20231205T200000
DTSTAMP:20260424T042732
CREATED:20230912T101918Z
LAST-MODIFIED:20231123T133317Z
UID:5061-1701799200-1701806400@www.esg-hamburg.de
SUMMARY:ESG Treffpunkt: In der Weihnachtsbäckerei…
DESCRIPTION:Gemeinsames Backen von (veganen) Plätzchen\, Die Zutaten stellen wir bereit. Damit wir planen können\, meldet Euch bitte bis zum 4. Dezember an unter hamburg@esg.nordkirche.de
URL:https://www.esg-hamburg.de/event/esg-treffpunkt-in-der-weihnachtsbaeckerei/
LOCATION:Bestattungsunternehmen „trostwerk“\, Osterstraße 149 (Hinterhof)\, Hamburg\, 20255\, Germany
ATTACH;FMTTYPE=image/jpeg:https://www.esg-hamburg.de/wp-content/uploads/2023/09/20231123_133938-scaled.jpg
END:VEVENT
BEGIN:VEVENT
DTSTART;TZID=Europe/Berlin:20231212T180000
DTEND;TZID=Europe/Berlin:20231212T200000
DTSTAMP:20260424T042732
CREATED:20220921T104831Z
LAST-MODIFIED:20230912T110921Z
UID:4652-1702404000-1702411200@www.esg-hamburg.de
SUMMARY:How to survive in Germany?  - Unterstützung für Studierende
DESCRIPTION:Es gibt viele Unterstützungsmöglichkeiten für den Studienalltag (z.B. zu Resilienz\, Zeitmanagement\, mental health\, Auslandspraktika etc.). Wir informieren euch über die Angebotslandschaft. Ein Abend\, nicht nur für internationale Studierende\, in Zusammenarbeit mit STUBE-Nord. \nMit Marianne Rennberger\, Referentin von STUBE-Nord
URL:https://www.esg-hamburg.de/event/stress/
LOCATION:Bestattungsunternehmen „trostwerk“\, Osterstraße 149 (Hinterhof)\, Hamburg\, 20255\, Germany
END:VEVENT
BEGIN:VEVENT
DTSTART;TZID=Europe/Berlin:20231217T180000
DTEND;TZID=Europe/Berlin:20231217T193000
DTSTAMP:20260424T042732
CREATED:20231122T114257Z
LAST-MODIFIED:20231206T093717Z
UID:5170-1702836000-1702841400@www.esg-hamburg.de
SUMMARY:Weihnachts-Doppelchorkonzert ES Groovt und HafengeBEAT
DESCRIPTION:Das Konzert der beiden Chöre ES Groovt (Chor der Evangelischen Studierendengemeinde) und HafengeBEAT findet statt in der Paulus Kirche in  Altona. Es wird ein gemischtes Programm aus Pop- und Weihnachtsliedern sowie weiteren Genres. \nEintritt frei\, aber wir freuen uns über eine Spende.
URL:https://www.esg-hamburg.de/event/doppelchorkonzert-mit-hafengebeat/
LOCATION:Pauluskirche Altona\, Bei der Pauluskirche 2\, Hamburg\, 22769\, Deutschland
END:VEVENT
END:VCALENDAR